BEGIN:VCALENDAR
VERSION:2.0
PRODID:-//Pali - ECPv6.15.17.1//NONSGML v1.0//EN
CALSCALE:GREGORIAN
METHOD:PUBLISH
X-WR-CALNAME:Pali
X-ORIGINAL-URL:https://www.paliltd.com/news
X-WR-CALDESC:Events for Pali
REFRESH-INTERVAL;VALUE=DURATION:PT1H
X-Robots-Tag:noindex
X-PUBLISHED-TTL:PT1H
BEGIN:VTIMEZONE
TZID:Europe/London
BEGIN:DAYLIGHT
TZOFFSETFROM:+0000
TZOFFSETTO:+0100
TZNAME:BST
DTSTART:20230326T010000
END:DAYLIGHT
BEGIN:STANDARD
TZOFFSETFROM:+0100
TZOFFSETTO:+0000
TZNAME:GMT
DTSTART:20231029T010000
END:STANDARD
BEGIN:DAYLIGHT
TZOFFSETFROM:+0000
TZOFFSETTO:+0100
TZNAME:BST
DTSTART:20240331T010000
END:DAYLIGHT
BEGIN:STANDARD
TZOFFSETFROM:+0100
TZOFFSETTO:+0000
TZNAME:GMT
DTSTART:20241027T010000
END:STANDARD
BEGIN:DAYLIGHT
TZOFFSETFROM:+0000
TZOFFSETTO:+0100
TZNAME:BST
DTSTART:20250330T010000
END:DAYLIGHT
BEGIN:STANDARD
TZOFFSETFROM:+0100
TZOFFSETTO:+0000
TZNAME:GMT
DTSTART:20251026T010000
END:STANDARD
END:VTIMEZONE
BEGIN:VEVENT
DTSTART;TZID=Europe/London:20240716T110000
DTEND;TZID=Europe/London:20240716T113000
DTSTAMP:20260422T121405
CREATED:20240215T141043Z
LAST-MODIFIED:20240215T141043Z
UID:17751-1721127600-1721129400@www.paliltd.com
SUMMARY:WEBINAR: All Mining - A deeper look into coal and non-coal mining risks
DESCRIPTION:PALI and Groundsure are excited to invite you to our free webinar about ‘All Mining – A deeper look into coal and non-coal mining risks’. \nThis webinar offers a deeper look into the risks posed by the UK’s mining legacy\, how it can impact property\, conveyancing and the modern day homeowner. \nTo register your free place\, please CLICK HERE \nWe hope you can join us.
URL:https://www.paliltd.com/news/event/all-mining-a-deeper-look-into-coal-and-non-coal-mining-risks/
LOCATION:Online event
ORGANIZER;CN="Pali Ltd":MAILTO:sales@paliltd.com
END:VEVENT
END:VCALENDAR