BEGIN:VCALENDAR
VERSION:2.0
PRODID:-//Pali - ECPv6.15.17.1//NONSGML v1.0//EN
CALSCALE:GREGORIAN
METHOD:PUBLISH
X-ORIGINAL-URL:https://www.paliltd.com/news
X-WR-CALDESC:Events for Pali
REFRESH-INTERVAL;VALUE=DURATION:PT1H
X-Robots-Tag:noindex
X-PUBLISHED-TTL:PT1H
BEGIN:VTIMEZONE
TZID:Europe/London
BEGIN:DAYLIGHT
TZOFFSETFROM:+0000
TZOFFSETTO:+0100
TZNAME:BST
DTSTART:20230326T010000
END:DAYLIGHT
BEGIN:STANDARD
TZOFFSETFROM:+0100
TZOFFSETTO:+0000
TZNAME:GMT
DTSTART:20231029T010000
END:STANDARD
BEGIN:DAYLIGHT
TZOFFSETFROM:+0000
TZOFFSETTO:+0100
TZNAME:BST
DTSTART:20240331T010000
END:DAYLIGHT
BEGIN:STANDARD
TZOFFSETFROM:+0100
TZOFFSETTO:+0000
TZNAME:GMT
DTSTART:20241027T010000
END:STANDARD
BEGIN:DAYLIGHT
TZOFFSETFROM:+0000
TZOFFSETTO:+0100
TZNAME:BST
DTSTART:20250330T010000
END:DAYLIGHT
BEGIN:STANDARD
TZOFFSETFROM:+0100
TZOFFSETTO:+0000
TZNAME:GMT
DTSTART:20251026T010000
END:STANDARD
END:VTIMEZONE
BEGIN:VEVENT
DTSTART;TZID=Europe/London:20241023T110000
DTEND;TZID=Europe/London:20241023T120000
DTSTAMP:20260422T112836
CREATED:20240815T114431Z
LAST-MODIFIED:20240916T160931Z
UID:17816-1729681200-1729684800@www.paliltd.com
SUMMARY:Groundsure's New ClimateIndex™ Enhancements - Better Clarity\, No Clutter
DESCRIPTION:Groundsure’s new ClimateIndex Enhancements Webinar delivered by Nick Treble\, an environmental expert at Groundsure\, this session will help you: \n– Understand the scale of climate risks in the future \n– Understand climate modelling UKCP18 \n– Understand the new Law Society Guidance \n– Know how you can discharge your duties and best advise your client \n– Understand ClimateIndex\, our unique climate analysis\, automatically included in our key environmental searches. \nTo register your FREE place\, please CLICK HERE \nWe hope you can join us!
URL:https://www.paliltd.com/news/event/new-climateindex-enhancements-webinar/
LOCATION:Online event
ORGANIZER;CN="Pali Ltd":MAILTO:sales@paliltd.com
END:VEVENT
END:VCALENDAR